View In:
ArcGIS JavaScript
ArcGIS Online Map Viewer
ArcGIS Earth
Service Description: Indonesie_Waigeo
Name: Indonesie_Waigeo
Description:
Single Fused Map Cache: false
Extent:
XMin: 499980.0
YMin: -9780.0
XMax: 609780.0
YMax: 100020.0
Spatial Reference: 32652
(32652)
LatestVCSWkid(0)
Initial Extent:
XMin: 499980.0
YMin: -9780.0
XMax: 609780.0
YMax: 100020.0
Spatial Reference: 32652
(32652)
LatestVCSWkid(0)
Full Extent:
XMin: 499980.0
YMin: -9780.0
XMax: 609780.0
YMax: 100020.0
Spatial Reference: 32652
(32652)
LatestVCSWkid(0)
Pixel Size X: 10.0
Pixel Size Y: 10.0
Band Count: 13
Pixel Type: U16
RasterFunction Infos: {"rasterFunctionInfos": [{
"name": "None",
"description": "",
"help": ""
}]}
Mensuration Capabilities: Basic
Inspection Capabilities:
Has Histograms: false
Has Colormap: false
Has Multi Dimensions : false
Rendering Rule:
Min Scale: 0
Max Scale: 0
Copyright Text:
Service Data Type: esriImageServiceDataTypeGeneric
Min Values: 0, 0, 0, 0, 0, 0, 0, 0, 0, 0, 0, 0, 0
Max Values: 32767, 8849, 8746, 9299, 8650, 8809, 9392, 9021, 9705, 2265, 1359, 9545, 13897
Mean Values: 0, 1249.4281328035, 1040.0896154213, 919.90715970595, 883.25655804036, 884.35640259996, 902.66536272268, 857.43518826261, 888.91432065599, 644.70930992269, 602.49987906478, 803.31924346627, 746.05716965088
Standard Deviation Values: -1, 1077.1165468576, 917.07668454251, 836.4796258471, 803.86923938616, 834.14580058571, 886.15147206605, 838.14580875326, 901.91911937785, 536.74883070811, 498.84551123039, 783.10666633258, 697.8680234664
Object ID Field:
Fields:
None
Default Mosaic Method: Center
Allowed Mosaic Methods:
SortField:
SortValue: null
Mosaic Operator: First
Default Compression Quality: 75
Default Resampling Method: Bilinear
Max Record Count: 1000
Max Image Height: 4100
Max Image Width: 15000
Max Download Image Count: 20
Max Mosaic Image Count: 20
Allow Raster Function: true
Allow Copy: true
Allow Analysis: true
Allow Compute TiePoints: false
Supports Statistics: false
Supports Advanced Queries: false
Use StandardizedQueries: true
Raster Type Infos:
Name: Raster Dataset
Description: Supports all ArcGIS Raster Datasets
Help:
Has Raster Attribute Table: false
Edit Fields Info: null
Ownership Based AccessControl For Rasters: null
Child Resources:
Info
Statistics
Key Properties
Legend
Raster Function Infos
Supported Operations:
Export Image
Identify
Measure
Compute Histograms
Compute Statistics Histograms
Get Samples
Compute Class Statistics
Query Boundary
Compute Pixel Location
Compute Angles
Validate
Project