{
 "currentVersion": 11.5,
 "serviceDescription": "Indonesie_Waigeo",
 "serviceItemId": "d9ee1cffb43c4989a351ffdb102fa14a",
 "name": "Indonesie_Waigeo",
 "description": "",
 "extent": {
  "xmin": 499980,
  "ymin": -9780,
  "xmax": 609780,
  "ymax": 100020,
  "spatialReference": {
   "wkid": 32652,
   "latestWkid": 32652
  }
 },
 "initialExtent": {
  "xmin": 499980,
  "ymin": -9780,
  "xmax": 609780,
  "ymax": 100020,
  "spatialReference": {
   "wkid": 32652,
   "latestWkid": 32652
  }
 },
 "fullExtent": {
  "xmin": 499980,
  "ymin": -9780,
  "xmax": 609780,
  "ymax": 100020,
  "spatialReference": {
   "wkid": 32652,
   "latestWkid": 32652
  }
 },
 "sortableFields": "",
 "bandCount": 13,
 "pixelType": "U16",
 "minValues": [
  0,
  0,
  0,
  0,
  0,
  0,
  0,
  0,
  0,
  0,
  0,
  0,
  0
 ],
 "maxValues": [
  32767,
  8849,
  8746,
  9299,
  8650,
  8809,
  9392,
  9021,
  9705,
  2265,
  1359,
  9545,
  13897
 ],
 "meanValues": [
  0,
  1249.4281328035,
  1040.0896154213,
  919.90715970595,
  883.25655804036,
  884.35640259996,
  902.66536272268,
  857.43518826261,
  888.91432065599,
  644.70930992269,
  602.49987906478,
  803.31924346627,
  746.05716965088
 ],
 "stdvValues": [
  -1,
  1077.1165468576,
  917.07668454251,
  836.4796258471,
  803.86923938616,
  834.14580058571,
  886.15147206605,
  838.14580875326,
  901.91911937785,
  536.74883070811,
  498.84551123039,
  783.10666633258,
  697.8680234664
 ],
 "serviceProperties": "Center<\/MosaicMethod>First<\/MosaicOperator>true<\/SortAscending><\/LockImageID><\/TileOrderField>0<\/TileOrderBase>600,000000<\/AvgImageSpacingX>300,000000<\/AvgImageSpacingY>0.0<\/ViewPointX>0.0<\/ViewPointY>0.0<\/ViewPointDefShiftX>0.0<\/ViewPointDefShiftY>None<\/CompressionMethod>75<\/CompressionQuality>0,010000<\/CompressionTolerance>Bilinear<\/SamplingMethod><\/ImageServiceProperties><\/ImageServer>",
 "allowedFields": "",
 "hasMultidimensions": false,
 "pixelSizeX": 10,
 "pixelSizeY": 10,
 "meanPixelSize": 10,
 "datasetFormat": "AFR",
 "uncompressedSize": 3134570400,
 "blockWidth": 2048,
 "blockHeight": 256,
 "compressionType": "None",
 "bandNames": [
  "B1",
  "B2",
  "B3",
  "B4",
  "B5",
  "B6",
  "B7",
  "B8",
  "B8A",
  "B9",
  "B10",
  "B11",
  "B12"
 ],
 "allowCopy": true,
 "allowAnalysis": true,
 "itemAccess": false,
 "inspectionCapabilities": "",
 "minPixelSize": 0,
 "maxPixelSize": 0,
 "copyrightText": "",
 "serviceDataType": "esriImageServiceDataTypeGeneric",
 "serviceSourceType": "esriImageServiceSourceTypeDataset",
 "objectIdField": "",
 "fields": [],
 "capabilities": "Image,Metadata,Mensuration",
 "defaultMosaicMethod": "Center",
 "allowedMosaicMethods": "",
 "sortField": "",
 "sortValue": null,
 "sortAscending": true,
 "mosaicOperator": "First",
 "maxDownloadSizeLimit": 0,
 "defaultCompressionQuality": 75,
 "defaultResamplingMethod": "Bilinear",
 "maxImageHeight": 4100,
 "maxImageWidth": 15000,
 "maxRecordCount": 1000,
 "maxDownloadImageCount": 20,
 "maxMosaicImageCount": 20,
 "allowRasterFunction": true,
 "rasterFunctionInfos": [
  {
   "name": "None",
   "description": "",
   "help": ""
  }
 ],
 "rasterTypeInfos": [
  {
   "name": "Raster Dataset",
   "description": "Supports all ArcGIS Raster Datasets",
   "help": ""
  }
 ],
 "mensurationCapabilities": "Basic",
 "hasHistograms": false,
 "hasColormap": false,
 "hasRasterAttributeTable": false,
 "minScale": 0,
 "maxScale": 0,
 "exportTilesAllowed": false,
 "supportsStatistics": false,
 "supportsAdvancedQueries": false,
 "editFieldsInfo": null,
 "ownershipBasedAccessControlForRasters": null,
 "allowComputeTiePoints": false,
 "useStandardizedQueries": true,
 "advancedQueryCapabilities": {
  "useStandardizedQueries": true,
  "supportsStatistics": false,
  "supportsOrderBy": false,
  "supportsDistinct": false,
  "supportsPagination": false
 },
 "spatialReference": {
  "wkid": 32652,
  "latestWkid": 32652
 }
}
