View In:
ArcGIS JavaScript
ArcGIS Online Map Viewer
ArcGIS Earth
Service Description: Orthomosaic
Name: Hosted/05071931_maistournesol3_all_Orthomosaic
Description:
Single Fused Map Cache: false
Extent:
XMin: 289981.6653301407
YMin: 4912215.318804677
XMax: 290073.2886183865
YMax: 4912271.4030625345
Spatial Reference: 32631
(32631)
VCSWkid(5773)
LatestVCSWkid(5773)
Initial Extent:
XMin: 289981.6653301407
YMin: 4912215.318804677
XMax: 290073.2886183865
YMax: 4912271.4030625345
Spatial Reference: 32631
(32631)
VCSWkid(5773)
LatestVCSWkid(5773)
Full Extent:
XMin: 289981.6653301407
YMin: 4912215.318804677
XMax: 290073.2886183865
YMax: 4912271.4030625345
Spatial Reference: 32631
(32631)
VCSWkid(5773)
LatestVCSWkid(5773)
Pixel Size X: 0.012391572659698872
Pixel Size Y: 0.012391572659715872
Band Count: 5
Pixel Type: F32
RasterFunction Infos: {"rasterFunctionInfos": [{
"name": "None",
"description": "Make a Raster or Raster Dataset into a Function Raster Dataset.",
"help": ""
}]}
Mensuration Capabilities: Basic
Inspection Capabilities:
Has Histograms: false
Has Colormap: false
Has Multi Dimensions : false
Rendering Rule:
Min Scale: 0
Max Scale: 0
Copyright Text:
Service Data Type: esriImageServiceDataTypeGeneric
Min Values: N/A
Max Values: N/A
Mean Values: N/A
Standard Deviation Values: N/A
Object ID Field:
Fields:
None
Default Mosaic Method: Center
Allowed Mosaic Methods:
SortField:
SortValue: null
Mosaic Operator: First
Default Compression Quality: 75
Default Resampling Method: Bilinear
Max Record Count: null
Max Image Height: 4100
Max Image Width: 15000
Max Download Image Count: null
Max Mosaic Image Count: null
Allow Raster Function: true
Allow Copy: true
Allow Analysis: true
Allow Compute TiePoints: false
Supports Statistics: false
Supports Advanced Queries: false
Use StandardizedQueries: true
Raster Type Infos:
Name: Raster Dataset
Description: Supports all ArcGIS Raster Datasets
Help:
Has Raster Attribute Table: false
Edit Fields Info: null
Ownership Based AccessControl For Rasters: null
Child Resources:
Info
Statistics
Key Properties
Legend
Raster Function Infos
Supported Operations:
Export Image
Identify
Measure
Compute Histograms
Compute Statistics Histograms
Get Samples
Compute Class Statistics
Query Boundary
Compute Pixel Location
Compute Angles
Validate
Project