View In:
ArcGIS JavaScript
ArcGIS Online Map Viewer
ArcGIS Earth
Service Description: CLC_2012_WM
Name: CLC_2012_WM
Description:
Single Fused Map Cache: false
Extent:
XMin: 94537.99889999628
YMin: 6042056.250100002
XMax: 1246921.9988999963
YMax: 7114888.250100002
Spatial Reference: 0
(0)
LatestVCSWkid(0)
Initial Extent:
XMin: 94537.99889999628
YMin: 6042056.250100002
XMax: 1246921.9988999963
YMax: 7114888.250100002
Spatial Reference: 0
(0)
LatestVCSWkid(0)
Full Extent:
XMin: 94537.99889999628
YMin: 6042056.250100002
XMax: 1246921.9988999963
YMax: 7114888.250100002
Spatial Reference: 0
(0)
LatestVCSWkid(0)
Pixel Size X: 32.0
Pixel Size Y: 32.0
Band Count: 1
Pixel Type: U4
RasterFunction Infos: {"rasterFunctionInfos": [{
"name": "None",
"description": "",
"help": ""
}]}
Mensuration Capabilities: Basic
Inspection Capabilities:
Has Histograms: true
Has Colormap: false
Has Multi Dimensions : false
Rendering Rule:
Min Scale: 0
Max Scale: 0
Copyright Text:
Service Data Type: esriImageServiceDataTypeThematic
Min Values: 1
Max Values: 5
Mean Values: 3.3383703557613718
Standard Deviation Values: 0.6693249305939493
Object ID Field:
Fields:
None
Default Mosaic Method: Center
Allowed Mosaic Methods:
SortField:
SortValue: null
Mosaic Operator: First
Default Compression Quality: 75
Default Resampling Method: Bilinear
Max Record Count: null
Max Image Height: 4100
Max Image Width: 15000
Max Download Image Count: null
Max Mosaic Image Count: null
Allow Raster Function: true
Allow Copy: true
Allow Analysis: true
Allow Compute TiePoints: false
Supports Statistics: false
Supports Advanced Queries: false
Use StandardizedQueries: true
Raster Type Infos:
Name: Raster Dataset
Description: Supports all ArcGIS Raster Datasets
Help:
Has Raster Attribute Table: true
Edit Fields Info: null
Ownership Based AccessControl For Rasters: null
Child Resources:
Info
Raster Attribute Table
Histograms
Statistics
Key Properties
Legend
Raster Function Infos
Supported Operations:
Export Image
Identify
Measure
Compute Histograms
Compute Statistics Histograms
Get Samples
Compute Class Statistics
Query Boundary
Compute Pixel Location
Compute Angles
Validate
Project